BEGIN:VCALENDAR
VERSION:2.0
PRODID:-//eventon.com NONSGML v1.0//EN
CALSCALE:GREGORIAN
METHOD:PUBLISH
BEGIN:VEVENT
UID:69e75db9b4b0e
DTSTAMP:20260421T112129Z
DTSTART:20241026T080000Z
DTEND:20241026T110000Z
LOCATION:Scrapyfoto C. de Balbino Orensanz\,  15\,  50014 Zaragoza
SUMMARY:Taller de Alteración de Objetos con Efecto Óxido
DESCRIPTION:Fecha: Sábado 26 de octubre | Hora: 10:00 &#8211; 13:00 hPreci
 o: 24€ (materiales incluidos) ¡Ven y despierta tu creatividad en este fa
 scinante taller de alteración de objetos! Durante esta sesión\,  aprender
 ás a aplicar diferentes técnicas para crear sorprendentes efectos de óxi
 do y trabajarás con una pieza de resina que realizarás[..]\nhttps://scrap
 yfoto.com/events/taller-de-alteracion-de-objetos-con-efecto-oxido/
URL:https://scrapyfoto.com/events/taller-de-alteracion-de-objetos-con-efecto-oxido/
END:VEVENT
END:VCALENDAR